BEGIN:VCALENDAR
VERSION:2.0
PRODID:-//ShoenSafety LLC - ECPv6.15.20//NONSGML v1.0//EN
CALSCALE:GREGORIAN
METHOD:PUBLISH
X-WR-CALNAME:ShoenSafety LLC
X-ORIGINAL-URL:https://shoensafety.com
X-WR-CALDESC:Events for ShoenSafety LLC
REFRESH-INTERVAL;VALUE=DURATION:PT1H
X-Robots-Tag:noindex
X-PUBLISHED-TTL:PT1H
BEGIN:VTIMEZONE
TZID:America/New_York
BEGIN:DAYLIGHT
TZOFFSETFROM:-0500
TZOFFSETTO:-0400
TZNAME:EDT
DTSTART:20240310T070000
END:DAYLIGHT
BEGIN:STANDARD
TZOFFSETFROM:-0400
TZOFFSETTO:-0500
TZNAME:EST
DTSTART:20241103T060000
END:STANDARD
BEGIN:DAYLIGHT
TZOFFSETFROM:-0500
TZOFFSETTO:-0400
TZNAME:EDT
DTSTART:20250309T070000
END:DAYLIGHT
BEGIN:STANDARD
TZOFFSETFROM:-0400
TZOFFSETTO:-0500
TZNAME:EST
DTSTART:20251102T060000
END:STANDARD
BEGIN:DAYLIGHT
TZOFFSETFROM:-0500
TZOFFSETTO:-0400
TZNAME:EDT
DTSTART:20260308T070000
END:DAYLIGHT
BEGIN:STANDARD
TZOFFSETFROM:-0400
TZOFFSETTO:-0500
TZNAME:EST
DTSTART:20261101T060000
END:STANDARD
BEGIN:DAYLIGHT
TZOFFSETFROM:-0500
TZOFFSETTO:-0400
TZNAME:EDT
DTSTART:20270314T070000
END:DAYLIGHT
BEGIN:STANDARD
TZOFFSETFROM:-0400
TZOFFSETTO:-0500
TZNAME:EST
DTSTART:20271107T060000
END:STANDARD
END:VTIMEZONE
BEGIN:VEVENT
DTSTART;TZID=America/New_York:20260314T090000
DTEND;TZID=America/New_York:20260314T153000
DTSTAMP:20260421T182917
CREATED:20260204T144053Z
LAST-MODIFIED:20260204T144225Z
UID:10001575-1773478800-1773502200@shoensafety.com
SUMMARY:March 14 Montgomeryville Babysitter Training
DESCRIPTION:The American Red Cross Babysitter’s Training program is designed to provide preteens and teens who are planning to babysit with the knowledge and skills necessary to safely and responsibly give care for children and infants. This training will help participants to develop leadership skills; learn how to develop a babysitting business\, keep themselves and others safe and help children behave; and learn about basic child care\, basic first aid\, and a certification in Pediatric CPR/AED skills. This course includes online coursework that must be completed prior to the beginning of the in-person session. \nThis course includes two certifications: the Babysitter certification\, valid for 10 years and a Pediatric CPR/AED/FA certification\, valid for 2 years.\n\nThis class is taught by an approved PQAS instructor. \nDate: Saturday\, Mar. 14\, 2026\nTime: 9a – 3:30p\nLocation: Montgomeryville Rec Center\n1030 Horsham Rd.\nMontgomeryville\, PA 18936\nCost: $100.00\nOnline Course Link: https://www.redcrosslearningcenter.org/s/online-class-registration?Id=a65KV000001EV8NYAW\n-Click link\n-Create account and click “Register.”\n-Go to the email you provided and sign in with the user name that was emailed.\n-Click “forgot password.”\n-Go to your email and reset your password and sign in with your newly created password.\n-Take the course. \n \nPurchase an event ticket at the the following link to register: https://montcrc.myrec.com/info/activities/default.aspx\n\nThis is a non-refundable\, non-transferable ticket.\nIf you are late\, you will not be permitted to enter and will forfeit your class fees.\nIf you do not pass any portion of the class\, including the pretest\, you will not receive a refund or reschedule.\nBy purchasing a ticket\, you agree to our cancellation policy found here: https://shoensafety.com/cancellation-policy/
URL:https://shoensafety.com/event/march-14-montgomeryville-babysitter-training/
LOCATION:Montgomery Township CRC\, 1030 Horsham Rd\, Montgomeryville \, PA\, 18936\, United States
CATEGORIES:Babysitting
END:VEVENT
BEGIN:VEVENT
DTSTART;TZID=America/New_York:20260117T090000
DTEND;TZID=America/New_York:20260117T153000
DTSTAMP:20260421T182917
CREATED:20251203T142251Z
LAST-MODIFIED:20251203T142251Z
UID:10001498-1768640400-1768663800@shoensafety.com
SUMMARY:Jan. 17 Montgomeryville Babysitter Training
DESCRIPTION:The American Red Cross Babysitter’s Training program is designed to provide preteens and teens who are planning to babysit with the knowledge and skills necessary to safely and responsibly give care for children and infants. This training will help participants to develop leadership skills; learn how to develop a babysitting business\, keep themselves and others safe and help children behave; and learn about basic child care\, basic first aid\, and a certification in Pediatric CPR/AED skills. This course includes online coursework that must be completed prior to the beginning of the in-person session. \nThis course includes two certifications: the Babysitter certification\, valid for 10 years and a Pediatric CPR/AED/FA certification\, valid for 2 years.\n\nThis class is taught by an approved PQAS instructor. \nDate: Saturday\, Jan. 17\, 2026\nTime: 9a – 3:30p\nLocation: Montgomeryville Rec Center\n1030 Horsham Rd.\nMontgomeryville\, PA 18936\nCost: $100.00\nOnline Course Link: https://www.redcrosslearningcenter.org/s/online-class-registration?Id=a65KV000001EV8NYAW\n-Click link\n-Create account and click “Register.”\n-Go to the email you provided and sign in with the user name that was emailed.\n-Click “forgot password.”\n-Go to your email and reset your password and sign in with your newly created password.\n-Take the course. \n \nPurchase an event ticket at the the following link to register: https://montcrc.myrec.com/info/activities/default.aspx\n\nThis is a non-refundable\, non-transferable ticket.\nIf you are late\, you will not be permitted to enter and will forfeit your class fees.\nIf you do not pass any portion of the class\, including the pretest\, you will not receive a refund or reschedule.\nBy purchasing a ticket\, you agree to our cancellation policy found here: https://shoensafety.com/cancellation-policy/
URL:https://shoensafety.com/event/jan-17-montgomeryville-babysitter-training/
LOCATION:Montgomery Township CRC\, 1030 Horsham Rd\, Montgomeryville \, PA\, 18936\, United States
CATEGORIES:Babysitting
END:VEVENT
BEGIN:VEVENT
DTSTART;TZID=America/New_York:20251101T090000
DTEND;TZID=America/New_York:20251101T153000
DTSTAMP:20260421T182917
CREATED:20251001T154655Z
LAST-MODIFIED:20251007T160634Z
UID:10001460-1761987600-1762011000@shoensafety.com
SUMMARY:Nov. 1 Montgomeryville Babysitter Training
DESCRIPTION:The American Red Cross Babysitter’s Training program is designed to provide preteens and teens who are planning to babysit with the knowledge and skills necessary to safely and responsibly give care for children and infants. This training will help participants to develop leadership skills; learn how to develop a babysitting business\, keep themselves and others safe and help children behave; and learn about basic child care\, basic first aid\, and a certification in Pediatric CPR/AED skills. This course includes online coursework that must be completed prior to the beginning of the in-person session. \nThis course includes two certifications: the Babysitter certification\, valid for 10 years and a Pediatric CPR/AED/FA certification\, valid for 2 years.\n\nThis class is taught by an approved PQAS instructor. \nDate: Saturday\, Nov. 1\, 2025\nTime: 9a – 3:30p\nLocation: Montgomeryville Rec Center\n1030 Horsham Rd.\nMontgomeryville\, PA 18936\nCost: $100.00\nOnline Course Link: https://www.redcrosslearningcenter.org/s/online-class-registration?Id=a65KV000001EV8NYAW\n-Click link\n-Create account and click “Register.”\n-Go to the email you provided and sign in with the user name that was emailed.\n-Click “forgot password.”\n-Go to your email and reset your password and sign in with your newly created password.\n-Take the course. \n \nPurchase an event ticket at the the following link to register: https://montcrc.myrec.com/info/activities/default.aspx\n\nTThis is a non-refundable\, non-transferable ticket.\nIf you are late\, you will not be permitted to enter and will forfeit your class fees.\nBy purchasing a ticket\, you agree to our cancellation policy found here: https://shoensafety.com/cancellation-policy/
URL:https://shoensafety.com/event/nov-1-montgomeryville-babysitter-training/
LOCATION:Montgomery Township CRC\, 1030 Horsham Rd\, Montgomeryville \, PA\, 18936\, United States
CATEGORIES:Babysitting
END:VEVENT
END:VCALENDAR