BEGIN:VCALENDAR
VERSION:2.0
PRODID:-//ShoenSafety LLC - ECPv6.15.20//NONSGML v1.0//EN
CALSCALE:GREGORIAN
METHOD:PUBLISH
X-ORIGINAL-URL:https://shoensafety.com
X-WR-CALDESC:Events for ShoenSafety LLC
REFRESH-INTERVAL;VALUE=DURATION:PT1H
X-Robots-Tag:noindex
X-PUBLISHED-TTL:PT1H
BEGIN:VTIMEZONE
TZID:America/New_York
BEGIN:DAYLIGHT
TZOFFSETFROM:-0500
TZOFFSETTO:-0400
TZNAME:EDT
DTSTART:20240310T070000
END:DAYLIGHT
BEGIN:STANDARD
TZOFFSETFROM:-0400
TZOFFSETTO:-0500
TZNAME:EST
DTSTART:20241103T060000
END:STANDARD
BEGIN:DAYLIGHT
TZOFFSETFROM:-0500
TZOFFSETTO:-0400
TZNAME:EDT
DTSTART:20250309T070000
END:DAYLIGHT
BEGIN:STANDARD
TZOFFSETFROM:-0400
TZOFFSETTO:-0500
TZNAME:EST
DTSTART:20251102T060000
END:STANDARD
BEGIN:DAYLIGHT
TZOFFSETFROM:-0500
TZOFFSETTO:-0400
TZNAME:EDT
DTSTART:20260308T070000
END:DAYLIGHT
BEGIN:STANDARD
TZOFFSETFROM:-0400
TZOFFSETTO:-0500
TZNAME:EST
DTSTART:20261101T060000
END:STANDARD
END:VTIMEZONE
BEGIN:VEVENT
DTSTART;TZID=America/New_York:20250607T090000
DTEND;TZID=America/New_York:20250607T120000
DTSTAMP:20260421T101723
CREATED:20241206T212551Z
LAST-MODIFIED:20241206T212551Z
UID:10001198-1749286800-1749297600@shoensafety.com
SUMMARY:June 7 Media CPR/AED/First Aid Blended Learning
DESCRIPTION:This is American Red Cross Adult and Pediatric First Aid/CPR/AED. This course satisfies OSHA workplace and other regulatory requirements. Your certification is valid for two years. \nThis class is taught by an approved PQAS instructor. \n\nThere are two options available:\nBlended Class\n1. You may purchase a ticket and attend the in-person class\, which is 2 hours. Prior to class\, you will need to complete the online portion. The link for the online portion is below. \n-or- \nTest Out/Challenge\n2. You may purchase a test out ticket. With this option\, you will complete the online portion then test out by demonstrating your skills with the instructor. The link for the online portion is below.    \n \nDate: Saturday\, June 7\, 2025\nTime: 9a – 12p\nLocation: Headroom Media\n24 Veterans Square\nMedia\, PA 19063\nCost: $95.00\nOnline Course Link: https://www.redcrosslearningcenter.org/s/online-class-registration?Id=a653o00000194c6AAA\n-Click link\n-Create account and click “Register.”\n-Go to the email you provided and sign in with the user name that was emailed.\n-Click “forgot password.”\n-Go to your email and reset your password and sign in with your newly created password.\n-Take the course. \nThis is a non-refundable\, non-transferable ticket. If you are late\, you will not be permitted to enter and will forfeit your class fees. Please read our cancellation policy here: https://shoensafety.com/cancellation-policy/ \nPurchase a ticket at the bottom of the page to register.
URL:https://shoensafety.com/event/june-7-media-cpr-aed-first-aid-blended-learning/
LOCATION:Headroom Media\, 24 Veterans Square\, Media\, PA\, 19063\, United States
CATEGORIES:CPR and First Aid
END:VEVENT
BEGIN:VEVENT
DTSTART;TZID=America/New_York:20250515T090000
DTEND;TZID=America/New_York:20250515T124500
DTSTAMP:20260421T101723
CREATED:20250210T193903Z
LAST-MODIFIED:20250410T190706Z
UID:10001366-1747299600-1747313100@shoensafety.com
SUMMARY:May 15 Media CPR/AED/First Aid Blended Learning
DESCRIPTION:This is American Red Cross Adult and Pediatric First Aid/CPR/AED. This course satisfies OSHA workplace and other regulatory requirements. Your certification is valid for two years. \nThis class is taught by an approved PQAS instructor. \n\nThere are two options available:\nBlended Class\n1. You may purchase a ticket and attend the in-person class\, which is 2 hours. Prior to class\, you will need to complete the online portion. The link for the online portion is below. \n-or- \nTest Out/Challenge\n2. You may purchase a test out ticket. With this option\, you will complete the online portion then test out by demonstrating your skills with the instructor. The link for the online portion is below.    \n \nDate: Thursday\, May 15\, 2025\nTime: 9a – 12:45p\nLocation: Headroom Media\n24 Veterans Square\nMedia\, PA 19063\nCost: $100.00\nOnline Course Link: https://www.redcrosslearningcenter.org/s/online-class-registration?Id=a653o00000194c6AAA\n-Click link\n-Create account and click “Register.”\n-Go to the email you provided and sign in with the user name that was emailed.\n-Click “forgot password.”\n-Go to your email and reset your password and sign in with your newly created password.\n-Take the course. \nThis is a non-refundable\, non-transferable ticket. If you are late\, you will not be permitted to enter and will forfeit your class fees. Please read our cancellation policy here: https://shoensafety.com/cancellation-policy/ \nPurchase a ticket at the bottom of the page to register.
URL:https://shoensafety.com/event/may-19-media-cpr-aed-first-aid-blended-learning/
LOCATION:Headroom Media\, 24 Veterans Square\, Media\, PA\, 19063\, United States
CATEGORIES:CPR and First Aid
END:VEVENT
BEGIN:VEVENT
DTSTART;TZID=America/New_York:20250501T090000
DTEND;TZID=America/New_York:20250501T120000
DTSTAMP:20260421T101723
CREATED:20241206T212255Z
LAST-MODIFIED:20250403T114407Z
UID:10001197-1746090000-1746100800@shoensafety.com
SUMMARY:May 1 Media CPR/AED/First Aid Blended Learning
DESCRIPTION:This is American Red Cross Adult and Pediatric First Aid/CPR/AED. This course satisfies OSHA workplace and other regulatory requirements. Your certification is valid for two years. \nThis class is taught by an approved PQAS instructor. \n\nThere are two options available:\nBlended Class\n1. You may purchase a ticket and attend the in-person class\, which is 2 hours. Prior to class\, you will need to complete the online portion. The link for the online portion is below. \n-or- \nTest Out/Challenge\n2. You may purchase a test out ticket. With this option\, you will complete the online portion then test out by demonstrating your skills with the instructor. The link for the online portion is below.    \n \nDate: Thursday\, May 1\, 2025\nTime: 9a – 12p\nLocation: Headroom Media\n24 Veterans Square\nMedia\, PA 19063\nCost: $95.00\nOnline Course Link: https://www.redcrosslearningcenter.org/s/online-class-registration?Id=a653o00000194c6AAA\n-Click link\n-Create account and click “Register.”\n-Go to the email you provided and sign in with the user name that was emailed.\n-Click “forgot password.”\n-Go to your email and reset your password and sign in with your newly created password.\n-Take the course. \nThis is a non-refundable\, non-transferable ticket. If you are late\, you will not be permitted to enter and will forfeit your class fees. Please read our cancellation policy here: https://shoensafety.com/cancellation-policy/ \nPurchase a ticket at the bottom of the page to register.
URL:https://shoensafety.com/event/may-1-media-cpr-aed-first-aid-blended-learning/
LOCATION:Headroom Media\, 24 Veterans Square\, Media\, PA\, 19063\, United States
CATEGORIES:CPR and First Aid
END:VEVENT
BEGIN:VEVENT
DTSTART;TZID=America/New_York:20250414T130000
DTEND;TZID=America/New_York:20250414T164500
DTSTAMP:20260421T101723
CREATED:20250210T193437Z
LAST-MODIFIED:20250210T193437Z
UID:10001365-1744635600-1744649100@shoensafety.com
SUMMARY:April 14 Media CPR/AED/First Aid Classroom Only
DESCRIPTION:This is American Red Cross Adult and Pediatric First Aid/CPR/AED. This course satisfies OSHA workplace and other regulatory requirements. Your certification is valid for two years. \nThis class is taught by an approved PQAS instructor.\n\nDate: Monday\, Apr. 14\, 2025\nTime: 1p – 4:45p\nLocation: Headroom Media\n24 Veterans Square\nMedia\, PA 19063\nCost: $100.00\nThis is a non-refundable\, non-transferable ticket. If you are late\, you will not be permitted to enter and will forfeit your class fees. Please read our cancellation policy here: https://shoensafety.com/cancellation-policy/ \nPurchase a ticket at the bottom of the page to register.
URL:https://shoensafety.com/event/april-14-media-cpr-aed-first-aid-classroom-only/
LOCATION:Headroom Media\, 24 Veterans Square\, Media\, PA\, 19063\, United States
CATEGORIES:CPR and First Aid
END:VEVENT
BEGIN:VEVENT
DTSTART;TZID=America/New_York:20250405T090000
DTEND;TZID=America/New_York:20250405T120000
DTSTAMP:20260421T101723
CREATED:20241206T193634Z
LAST-MODIFIED:20250404T164625Z
UID:10001196-1743843600-1743854400@shoensafety.com
SUMMARY:April 5 Media CPR/AED/First Aid Blended Learning
DESCRIPTION:This is American Red Cross Adult and Pediatric First Aid/CPR/AED. This course satisfies OSHA workplace and other regulatory requirements. Your certification is valid for two years. \nThis class is taught by an approved PQAS instructor. \n\nThere are two options available:\nBlended Class\n1. You may purchase a ticket and attend the in-person class\, which is 2 hours. Prior to class\, you will need to complete the online portion. The link for the online portion is below. \n-or- \nTest Out/Challenge\n2. You may purchase a test out ticket. With this option\, you will complete the online portion then test out by demonstrating your skills with the instructor. The link for the online portion is below.    \n \nDate: Saturday\, April 5\, 2025\nTime: 9a – 12p\nLocation: Headroom Media\n24 Veterans Square\nMedia\, PA 19063\nCost: $95.00\nOnline Course Link: https://www.redcrosslearningcenter.org/s/online-class-registration?Id=a653o00000194c6AAA\n-Click link\n-Create account and click “Register.”\n-Go to the email you provided and sign in with the user name that was emailed.\n-Click “forgot password.”\n-Go to your email and reset your password and sign in with your newly created password.\n-Take the course. \nThis is a non-refundable\, non-transferable ticket. If you are late\, you will not be permitted to enter and will forfeit your class fees. Please read our cancellation policy here: https://shoensafety.com/cancellation-policy/ \nPurchase a ticket at the bottom of the page to register.
URL:https://shoensafety.com/event/april-5-media-cpr-aed-first-aid-blended-learning/
LOCATION:Headroom Media\, 24 Veterans Square\, Media\, PA\, 19063\, United States
CATEGORIES:CPR and First Aid
END:VEVENT
BEGIN:VEVENT
DTSTART;TZID=America/New_York:20250321T090000
DTEND;TZID=America/New_York:20250321T124500
DTSTAMP:20260421T101723
CREATED:20250205T164423Z
LAST-MODIFIED:20250205T164423Z
UID:10001300-1742547600-1742561100@shoensafety.com
SUMMARY:March 21 Media CPR/AED/First Aid Classroom Only
DESCRIPTION:This is American Red Cross Adult and Pediatric First Aid/CPR/AED. This course satisfies OSHA workplace and other regulatory requirements. Your certification is valid for two years. \nThis class is taught by an approved PQAS instructor.\n\nDate: Friday\, Mar. 21\, 2025\nTime: 9a – 12:45p\nLocation: Headroom Media\n24 Veterans Square\nMedia\, PA 19063\nCost: $100.00\nThis is a non-refundable\, non-transferable ticket. If you are late\, you will not be permitted to enter and will forfeit your class fees. Please read our cancellation policy here: https://shoensafety.com/cancellation-policy/ \nPurchase a ticket at the bottom of the page to register.
URL:https://shoensafety.com/event/march-21-media-cpr-aed-first-aid-classroom-only/
LOCATION:Headroom Media\, 24 Veterans Square\, Media\, PA\, 19063\, United States
CATEGORIES:CPR and First Aid
END:VEVENT
BEGIN:VEVENT
DTSTART;TZID=America/New_York:20250301T090000
DTEND;TZID=America/New_York:20250301T120000
DTSTAMP:20260421T101723
CREATED:20241206T193303Z
LAST-MODIFIED:20241206T193303Z
UID:10001195-1740819600-1740830400@shoensafety.com
SUMMARY:March 1 Media CPR/AED/First Aid Blended Learning
DESCRIPTION:This is American Red Cross Adult and Pediatric First Aid/CPR/AED. This course satisfies OSHA workplace and other regulatory requirements. Your certification is valid for two years. \nThis class is taught by an approved PQAS instructor. \n\nThere are two options available:\nBlended Class\n1. You may purchase a ticket and attend the in-person class\, which is 2 hours. Prior to class\, you will need to complete the online portion. The link for the online portion is below. \n-or- \nTest Out/Challenge\n2. You may purchase a test out ticket. With this option\, you will complete the online portion then test out by demonstrating your skills with the instructor. The link for the online portion is below.    \n \nDate: Saturday\, March 1\, 2025\nTime: 9a – 12p\nLocation: Headroom Media\n24 Veterans Square\nMedia\, PA 19063\nCost: $95.00\nOnline Course Link: https://www.redcrosslearningcenter.org/s/online-class-registration?Id=a653o00000194c6AAA\n-Click link\n-Create account and click “Register.”\n-Go to the email you provided and sign in with the user name that was emailed.\n-Click “forgot password.”\n-Go to your email and reset your password and sign in with your newly created password.\n-Take the course. \nThis is a non-refundable\, non-transferable ticket. If you are late\, you will not be permitted to enter and will forfeit your class fees. Please read our cancellation policy here: https://shoensafety.com/cancellation-policy/ \nPurchase a ticket at the bottom of the page to register.
URL:https://shoensafety.com/event/march-1-media-cpr-aed-first-aid-blended-learning/
LOCATION:Headroom Media\, 24 Veterans Square\, Media\, PA\, 19063\, United States
CATEGORIES:CPR and First Aid
END:VEVENT
BEGIN:VEVENT
DTSTART;TZID=America/New_York:20250214T130000
DTEND;TZID=America/New_York:20250214T160000
DTSTAMP:20260421T101723
CREATED:20250108T151207Z
LAST-MODIFIED:20250116T165949Z
UID:10001250-1739538000-1739548800@shoensafety.com
SUMMARY:Feb. 14 Media CPR/AED/First Aid Blended Learning
DESCRIPTION:This is American Red Cross Adult and Pediatric First Aid/CPR/AED. This course satisfies OSHA workplace and other regulatory requirements. Your certification is valid for two years. \nThis class is taught by an approved PQAS instructor. \n\nThere are two options available:\nBlended Class\n1. You may purchase a ticket and attend the in-person class\, which is 2 hours. Prior to class\, you will need to complete the online portion. The link for the online portion is below. \n-or- \nTest Out/Challenge\n2. You may purchase a test out ticket. With this option\, you will complete the online portion then test out by demonstrating your skills with the instructor. The link for the online portion is below.    \n \nDate: Friday\, Feb. 14\, 2025\nTime: 1p – 4p\nLocation: Headroom Media\n24 Veterans Square\nMedia\, PA 19063\nCost: $95.00\nOnline Course Link: https://www.redcrosslearningcenter.org/s/online-class-registration?Id=a653o00000194c6AAA\n-Click link\n-Create account and click “Register.”\n-Go to the email you provided and sign in with the user name that was emailed.\n-Click “forgot password.”\n-Go to your email and reset your password and sign in with your newly created password.\n-Take the course. \nThis is a non-refundable\, non-transferable ticket. If you are late\, you will not be permitted to enter and will forfeit your class fees. Please read our cancellation policy here: https://shoensafety.com/cancellation-policy/ \nPurchase a ticket at the bottom of the page to register.
URL:https://shoensafety.com/event/feb-14-media-cpr-aed-first-aid-blended-learning/
LOCATION:Headroom Media\, 24 Veterans Square\, Media\, PA\, 19063\, United States
CATEGORIES:CPR and First Aid
END:VEVENT
BEGIN:VEVENT
DTSTART;TZID=America/New_York:20250201T090000
DTEND;TZID=America/New_York:20250201T120000
DTSTAMP:20260421T101723
CREATED:20241206T192222Z
LAST-MODIFIED:20250121T162130Z
UID:10001194-1738400400-1738411200@shoensafety.com
SUMMARY:Feb. 1 Media CPR/AED/First Aid Blended Learning
DESCRIPTION:This is American Red Cross Adult and Pediatric First Aid/CPR/AED. This course satisfies OSHA workplace and other regulatory requirements. Your certification is valid for two years. \nThis class is taught by an approved PQAS instructor. \n\nThere are two options available:\nBlended Class\n1. You may purchase a ticket and attend the in-person class\, which is 2 hours. Prior to class\, you will need to complete the online portion. The link for the online portion is below. \n-or- \nTest Out/Challenge\n2. You may purchase a test out ticket. With this option\, you will complete the online portion then test out by demonstrating your skills with the instructor. The link for the online portion is below.    \n \nDate: Saturday\, Feb. 1\, 2025\nTime: 9a – 12p\nLocation: Headroom Media\n24 Veterans Square\nMedia\, PA 19063\nCost: $95.00\nOnline Course Link: https://www.redcrosslearningcenter.org/s/online-class-registration?Id=a653o00000194c6AAA\n-Click link\n-Create account and click “Register.”\n-Go to the email you provided and sign in with the user name that was emailed.\n-Click “forgot password.”\n-Go to your email and reset your password and sign in with your newly created password.\n-Take the course. \nThis is a non-refundable\, non-transferable ticket. If you are late\, you will not be permitted to enter and will forfeit your class fees. Please read our cancellation policy here: https://shoensafety.com/cancellation-policy/ \nPurchase a ticket at the bottom of the page to register.
URL:https://shoensafety.com/event/feb-1-media-cpr-aed-first-aid-blended-learning/
LOCATION:Headroom Media\, 24 Veterans Square\, Media\, PA\, 19063\, United States
CATEGORIES:CPR and First Aid
END:VEVENT
BEGIN:VEVENT
DTSTART;TZID=America/New_York:20250113T090000
DTEND;TZID=America/New_York:20250113T124500
DTSTAMP:20260421T101723
CREATED:20241209T145334Z
LAST-MODIFIED:20241209T145334Z
UID:10001211-1736758800-1736772300@shoensafety.com
SUMMARY:Jan. 13 Media CPR/AED/First Aid Classroom Only
DESCRIPTION:This is American Red Cross Adult and Pediatric First Aid/CPR/AED. This course satisfies OSHA workplace and other regulatory requirements. Your certification is valid for two years. \nThis class is taught by an approved PQAS instructor.\n\nDate: Monday\, Jan. 13\, 2025\nTime: 9a – 12:45p\nLocation: Headroom Media\n24 Veterans Square\nMedia\, PA 19063\nCost: $100.00\nThis is a non-refundable\, non-transferable ticket. If you are late\, you will not be permitted to enter and will forfeit your class fees. Please read our cancellation policy here: https://shoensafety.com/cancellation-policy/ \nPurchase a ticket at the bottom of the page to register.
URL:https://shoensafety.com/event/jan-13-media-cpr-aed-first-aid-classroom-only/
LOCATION:Headroom Media\, 24 Veterans Square\, Media\, PA\, 19063\, United States
CATEGORIES:CPR and First Aid
END:VEVENT
BEGIN:VEVENT
DTSTART;TZID=America/New_York:20250104T090000
DTEND;TZID=America/New_York:20250104T120000
DTSTAMP:20260421T101723
CREATED:20241206T191934Z
LAST-MODIFIED:20241206T192705Z
UID:10001193-1735981200-1735992000@shoensafety.com
SUMMARY:Jan. 4 Media CPR/AED/First Aid Blended Learning
DESCRIPTION:This is American Red Cross Adult and Pediatric First Aid/CPR/AED. This course satisfies OSHA workplace and other regulatory requirements. Your certification is valid for two years. \nThis class is taught by an approved PQAS instructor. \n\nThere are two options available:\nBlended Class\n1. You may purchase a ticket and attend the in-person class\, which is 2 hours. Prior to class\, you will need to complete the online portion. The link for the online portion is below. \n-or- \nTest Out/Challenge\n2. You may purchase a test out ticket. With this option\, you will complete the online portion then test out by demonstrating your skills with the instructor. The link for the online portion is below.    \n \nDate: Saturday\, Jan. 4\, 2025\nTime: 9a – 12p\nLocation: Headroom Media\n24 Veterans Square\nMedia\, PA 19063\nCost: $95.00\nOnline Course Link: https://www.redcrosslearningcenter.org/s/online-class-registration?Id=a653o00000194c6AAA\n-Click link\n-Create account and click “Register.”\n-Go to the email you provided and sign in with the user name that was emailed.\n-Click “forgot password.”\n-Go to your email and reset your password and sign in with your newly created password.\n-Take the course. \nThis is a non-refundable\, non-transferable ticket. If you are late\, you will not be permitted to enter and will forfeit your class fees. Please read our cancellation policy here: https://shoensafety.com/cancellation-policy/ \nPurchase a ticket at the bottom of the page to register.
URL:https://shoensafety.com/event/jan-4-media-cpr-aed-first-aid-blended-learning/
LOCATION:Headroom Media\, 24 Veterans Square\, Media\, PA\, 19063\, United States
CATEGORIES:CPR and First Aid
END:VEVENT
END:VCALENDAR