BEGIN:VCALENDAR
VERSION:2.0
PRODID:-//ShoenSafety LLC - ECPv6.15.20//NONSGML v1.0//EN
CALSCALE:GREGORIAN
METHOD:PUBLISH
X-ORIGINAL-URL:https://shoensafety.com
X-WR-CALDESC:Events for ShoenSafety LLC
REFRESH-INTERVAL;VALUE=DURATION:PT1H
X-Robots-Tag:noindex
X-PUBLISHED-TTL:PT1H
BEGIN:VTIMEZONE
TZID:America/New_York
BEGIN:DAYLIGHT
TZOFFSETFROM:-0500
TZOFFSETTO:-0400
TZNAME:EDT
DTSTART:20250309T070000
END:DAYLIGHT
BEGIN:STANDARD
TZOFFSETFROM:-0400
TZOFFSETTO:-0500
TZNAME:EST
DTSTART:20251102T060000
END:STANDARD
BEGIN:DAYLIGHT
TZOFFSETFROM:-0500
TZOFFSETTO:-0400
TZNAME:EDT
DTSTART:20260308T070000
END:DAYLIGHT
BEGIN:STANDARD
TZOFFSETFROM:-0400
TZOFFSETTO:-0500
TZNAME:EST
DTSTART:20261101T060000
END:STANDARD
BEGIN:DAYLIGHT
TZOFFSETFROM:-0500
TZOFFSETTO:-0400
TZNAME:EDT
DTSTART:20270314T070000
END:DAYLIGHT
BEGIN:STANDARD
TZOFFSETFROM:-0400
TZOFFSETTO:-0500
TZNAME:EST
DTSTART:20271107T060000
END:STANDARD
END:VTIMEZONE
BEGIN:VEVENT
DTSTART;TZID=America/New_York:20260413T090000
DTEND;TZID=America/New_York:20260413T124500
DTSTAMP:20260420T084522
CREATED:20260306T170349Z
LAST-MODIFIED:20260306T170349Z
UID:10001619-1776070800-1776084300@shoensafety.com
SUMMARY:April 13 Lancaster CPR/AED/First Aid Classroom Only
DESCRIPTION:This is American Red Cross Adult and Pediatric First Aid/CPR/AED. This course satisfies OSHA workplace and other regulatory requirements. Your certification is valid for two years. \nThis class is taught by an approved PQAS instructor.\n\nDate: Monday\, April 13\, 2026\nTime: 9a – 12:45p\nLocation: Lancaster Cowering\n318 E. Walnut St.\nLancaster\, PA 17602\nCost: $100.00\nThis is a non-refundable\, non-transferable ticket. If you are late\, you will not be permitted to enter and will forfeit your class fees. Please read our cancellation policy here: https://shoensafety.com/cancellation-policy/ \nPurchase a ticket at the bottom of the page to register.
URL:https://shoensafety.com/event/april-13-lancaster-cpr-aed-first-aid-classroom-only/
LOCATION:Lancaster Coworking\, 318 E. Walnut St.\, Lancaster\, Pa\, 17602
CATEGORIES:CPR and First Aid
END:VEVENT
BEGIN:VEVENT
DTSTART;TZID=America/New_York:20260317T130000
DTEND;TZID=America/New_York:20260317T160000
DTSTAMP:20260420T084522
CREATED:20260212T170251Z
LAST-MODIFIED:20260212T170251Z
UID:10001591-1773752400-1773763200@shoensafety.com
SUMMARY:March 17 Lancaster CPR/AED/First Aid Blended Learning
DESCRIPTION:This is American Red Cross Adult and Pediatric First Aid/CPR/AED. This course satisfies OSHA workplace and other regulatory requirements. Your certification is valid for two years.\n\nThis class is taught by an approved PQAS instructor.\n\nThere are two options available:\nBlended Class\n1. You may purchase a ticket and attend the in-person class\, which is 2 hours. Prior to class\, you will need to complete the online portion. The link for the online portion is below. \nTest Out/Challenge\n2. You may purchase a test out ticket. With this option\, you will complete the online portion then test out by demonstrating your skills with the instructor. The link for the online portion is below. \n \nDate: Tuesday\, Mar. 17\, 2026\nTime: 1p – 4p\nLocation: Lancaster Coworking\n318 E. Walnut St.\nLancaster\, PA 17602\nCost: $100.00\nOnline Course Link: https://www.redcrosslearningcenter.org/s/online-class-registration?Id=a65Vx000000z3PBIAY\n-Click link\n-Create account and click “Register.”\n-Go to the email you provided and sign in with the user name that was emailed.\n-Click “forgot password.”\n-Go to your email and reset your password and sign in with your newly created password.\n-Take the course. \n \nPurchase an event ticket at the bottom of this page to register.\n\nThis is a non-refundable\, non-transferable ticket. If you are late\, you will not be permitted to enter and will forfeit your class fees. Please read our cancellation policy here: https://shoensafety.com/cancellation-policy/
URL:https://shoensafety.com/event/march-17-lancaster-cpr-aed-first-aid-blended-learning/
LOCATION:Lancaster Coworking\, 318 E. Walnut St.\, Lancaster\, Pa\, 17602
CATEGORIES:CPR and First Aid
END:VEVENT
BEGIN:VEVENT
DTSTART;TZID=America/New_York:20260306T090000
DTEND;TZID=America/New_York:20260306T124500
DTSTAMP:20260420T084522
CREATED:20260212T165833Z
LAST-MODIFIED:20260212T165833Z
UID:10001590-1772787600-1772801100@shoensafety.com
SUMMARY:March 6 Lancaster CPR/AED/First Aid Classroom Only
DESCRIPTION:This is American Red Cross Adult and Pediatric First Aid/CPR/AED. This course satisfies OSHA workplace and other regulatory requirements. Your certification is valid for two years. \nThis class is taught by an approved PQAS instructor.\n\nDate: Friday\, Mar. 6\, 2026\nTime: 9a – 12:45p\nLocation: Lancaster Cowering\n318 E. Walnut St.\nLancaster\, PA 17602\nCost: $100.00\nThis is a non-refundable\, non-transferable ticket. If you are late\, you will not be permitted to enter and will forfeit your class fees. Please read our cancellation policy here: https://shoensafety.com/cancellation-policy/ \nPurchase a ticket at the bottom of the page to register.
URL:https://shoensafety.com/event/march-6-lancaster-cpr-aed-first-aid-classroom-only/
LOCATION:Lancaster Coworking\, 318 E. Walnut St.\, Lancaster\, Pa\, 17602
CATEGORIES:CPR and First Aid
END:VEVENT
END:VCALENDAR