BEGIN:VCALENDAR
VERSION:2.0
PRODID:-//ShoenSafety LLC - ECPv6.15.20//NONSGML v1.0//EN
CALSCALE:GREGORIAN
METHOD:PUBLISH
X-WR-CALNAME:ShoenSafety LLC
X-ORIGINAL-URL:https://shoensafety.com
X-WR-CALDESC:Events for ShoenSafety LLC
REFRESH-INTERVAL;VALUE=DURATION:PT1H
X-Robots-Tag:noindex
X-PUBLISHED-TTL:PT1H
BEGIN:VTIMEZONE
TZID:America/New_York
BEGIN:DAYLIGHT
TZOFFSETFROM:-0500
TZOFFSETTO:-0400
TZNAME:EDT
DTSTART:20240310T070000
END:DAYLIGHT
BEGIN:STANDARD
TZOFFSETFROM:-0400
TZOFFSETTO:-0500
TZNAME:EST
DTSTART:20241103T060000
END:STANDARD
BEGIN:DAYLIGHT
TZOFFSETFROM:-0500
TZOFFSETTO:-0400
TZNAME:EDT
DTSTART:20250309T070000
END:DAYLIGHT
BEGIN:STANDARD
TZOFFSETFROM:-0400
TZOFFSETTO:-0500
TZNAME:EST
DTSTART:20251102T060000
END:STANDARD
BEGIN:DAYLIGHT
TZOFFSETFROM:-0500
TZOFFSETTO:-0400
TZNAME:EDT
DTSTART:20260308T070000
END:DAYLIGHT
BEGIN:STANDARD
TZOFFSETFROM:-0400
TZOFFSETTO:-0500
TZNAME:EST
DTSTART:20261101T060000
END:STANDARD
BEGIN:DAYLIGHT
TZOFFSETFROM:-0500
TZOFFSETTO:-0400
TZNAME:EDT
DTSTART:20270314T070000
END:DAYLIGHT
BEGIN:STANDARD
TZOFFSETFROM:-0400
TZOFFSETTO:-0500
TZNAME:EST
DTSTART:20271107T060000
END:STANDARD
END:VTIMEZONE
BEGIN:VEVENT
DTSTART;TZID=America/New_York:20260407T130000
DTEND;TZID=America/New_York:20260407T164500
DTSTAMP:20260420T175426
CREATED:20260303T161551Z
LAST-MODIFIED:20260303T161622Z
UID:10001601-1775566800-1775580300@shoensafety.com
SUMMARY:April 7 Plymouth Mtg. CPR/AED/First Aid Classroom Only
DESCRIPTION:This is American Red Cross Adult and Pediatric First Aid/CPR/AED. This course satisfies OSHA workplace and other regulatory requirements. Your certification is valid for two years. \nThis class is taught by an approved PQAS instructor.\n \nDate: Tuesday\, Apr. 7\, 2026\nTime: 1p – 4:45p\nLocation: American Executive Centers\n600 West Germantown Pike\, Suite 400\nPlymouth Meeting\, PA 19462\nCost: $100.00 \nThis is a non-refundable\, non-transferable ticket.\nIf you are late\, you will not be permitted to enter and will forfeit your class fees.\nIf you do not pass any portion of the class\, including the pretest\, you will not receive a refund or reschedule.\nBy purchasing a ticket\, you agree to our cancellation policy found here: https://shoensafety.com/cancellation-policy/ \nPurchase a ticket at the bottom of the page to register.
URL:https://shoensafety.com/event/march-16-plymouth-mtg-cpr-aed-first-aid-classroom-only-2/
LOCATION:American Executive Centers – Plymouth Meeting\, 600 West Germantown Pike\, Suite 400\, Plymouth Meeting\, PA\, 19462\, United States
CATEGORIES:CPR and First Aid
END:VEVENT
BEGIN:VEVENT
DTSTART;TZID=America/New_York:20260316T130000
DTEND;TZID=America/New_York:20260316T164500
DTSTAMP:20260420T175426
CREATED:20260204T143155Z
LAST-MODIFIED:20260204T143155Z
UID:10001572-1773666000-1773679500@shoensafety.com
SUMMARY:March 16 Plymouth Mtg. CPR/AED/First Aid Classroom Only
DESCRIPTION:This is American Red Cross Adult and Pediatric First Aid/CPR/AED. This course satisfies OSHA workplace and other regulatory requirements. Your certification is valid for two years. \nThis class is taught by an approved PQAS instructor.\n \nDate: Monday\, Mar. 16\, 2026\nTime: 1p – 4:45p\nLocation: American Executive Centers\n600 West Germantown Pike\, Suite 400\nPlymouth Meeting\, PA 19462\nCost: $100.00 \nThis is a non-refundable\, non-transferable ticket.\nIf you are late\, you will not be permitted to enter and will forfeit your class fees.\nIf you do not pass any portion of the class\, including the pretest\, you will not receive a refund or reschedule.\nBy purchasing a ticket\, you agree to our cancellation policy found here: https://shoensafety.com/cancellation-policy/ \nPurchase a ticket at the bottom of the page to register.
URL:https://shoensafety.com/event/march-16-plymouth-mtg-cpr-aed-first-aid-classroom-only/
LOCATION:American Executive Centers – Plymouth Meeting\, 600 West Germantown Pike\, Suite 400\, Plymouth Meeting\, PA\, 19462\, United States
CATEGORIES:CPR and First Aid
END:VEVENT
BEGIN:VEVENT
DTSTART;TZID=America/New_York:20260217T090000
DTEND;TZID=America/New_York:20260217T124500
DTSTAMP:20260420T175426
CREATED:20260108T155726Z
LAST-MODIFIED:20260108T155726Z
UID:10001533-1771318800-1771332300@shoensafety.com
SUMMARY:Feb. 17 Plymouth Mtg. CPR/AED/First Aid Classroom Only
DESCRIPTION:This is American Red Cross Adult and Pediatric First Aid/CPR/AED. This course satisfies OSHA workplace and other regulatory requirements. Your certification is valid for two years. \nThis class is taught by an approved PQAS instructor.\n \nDate: Tuesday\, Feb. 17\, 2026\nTime: 9a – 12:45p\nLocation: American Executive Centers\n600 West Germantown Pike\, Suite 400\nPlymouth Meeting\, PA 19462\nCost: $100.00 \nThis is a non-refundable\, non-transferable ticket.\nIf you are late\, you will not be permitted to enter and will forfeit your class fees.\nIf you do not pass any portion of the class\, including the pretest\, you will not receive a refund or reschedule.\nBy purchasing a ticket\, you agree to our cancellation policy found here: https://shoensafety.com/cancellation-policy/ \nPurchase a ticket at the bottom of the page to register.
URL:https://shoensafety.com/event/feb-17-plymouth-mtg-cpr-aed-first-aid-classroom-only/
LOCATION:American Executive Centers – Plymouth Meeting\, 600 West Germantown Pike\, Suite 400\, Plymouth Meeting\, PA\, 19462\, United States
CATEGORIES:CPR and First Aid
END:VEVENT
BEGIN:VEVENT
DTSTART;TZID=America/New_York:20260112T130000
DTEND;TZID=America/New_York:20260112T164500
DTSTAMP:20260420T175426
CREATED:20251203T133645Z
LAST-MODIFIED:20251203T133645Z
UID:10001490-1768222800-1768236300@shoensafety.com
SUMMARY:Jan. 12 Plymouth Mtg. CPR/AED/First Aid Classroom Only
DESCRIPTION:This is American Red Cross Adult and Pediatric First Aid/CPR/AED. This course satisfies OSHA workplace and other regulatory requirements. Your certification is valid for two years. \nThis class is taught by an approved PQAS instructor.\n \nDate: Monday\, Jan. 12\, 2026\nTime: 1p – 4:45p\nLocation: American Executive Centers\n600 West Germantown Pike\, Suite 400\nPlymouth Meeting\, PA 19462\nCost: $100.00 \nThis is a non-refundable\, non-transferable ticket.\nIf you are late\, you will not be permitted to enter and will forfeit your class fees.\nIf you do not pass any portion of the class\, including the pretest\, you will not receive a refund or reschedule.\nBy purchasing a ticket\, you agree to our cancellation policy found here: https://shoensafety.com/cancellation-policy/ \nPurchase a ticket at the bottom of the page to register.
URL:https://shoensafety.com/event/jan-12-plymouth-mtg-cpr-aed-first-aid-classroom-only/
LOCATION:American Executive Centers – Plymouth Meeting\, 600 West Germantown Pike\, Suite 400\, Plymouth Meeting\, PA\, 19462\, United States
CATEGORIES:CPR and First Aid
END:VEVENT
BEGIN:VEVENT
DTSTART;TZID=America/New_York:20251216T090000
DTEND;TZID=America/New_York:20251216T124500
DTSTAMP:20260420T175426
CREATED:20250714T154451Z
LAST-MODIFIED:20250714T154451Z
UID:10001436-1765875600-1765889100@shoensafety.com
SUMMARY:Dec. 16 Plymouth Mtg. CPR/AED/First Aid Classroom Only
DESCRIPTION:This is American Red Cross Adult and Pediatric First Aid/CPR/AED. This course satisfies OSHA workplace and other regulatory requirements. Your certification is valid for two years. \nThis class is taught by an approved PQAS instructor.\n \nDate: Tuesday\, Dec. 16\, 2025\nTime: 9a – 12:45p\nLocation: American Executive Centers\n600 West Germantown Pike\, Suite 400\nPlymouth Meeting\, PA 19462\nCost: $100.00 \nThis is a non-refundable\, non-transferable ticket. If you are late\, you will not be permitted to enter and will forfeit your class fees. Please read our cancellation policy here: https://shoensafety.com/cancellation-policy/ \nPurchase a ticket at the bottom of the page to register.
URL:https://shoensafety.com/event/dec-16-plymouth-mtg-cpr-aed-first-aid-classroom-only/
LOCATION:American Executive Centers – Plymouth Meeting\, 600 West Germantown Pike\, Suite 400\, Plymouth Meeting\, PA\, 19462\, United States
CATEGORIES:CPR and First Aid
END:VEVENT
BEGIN:VEVENT
DTSTART;TZID=America/New_York:20251110T130000
DTEND;TZID=America/New_York:20251110T164500
DTSTAMP:20260420T175426
CREATED:20250714T153816Z
LAST-MODIFIED:20251110T130856Z
UID:10001435-1762779600-1762793100@shoensafety.com
SUMMARY:Nov. 10 Plymouth Mtg. CPR/AED/First Aid Classroom Only
DESCRIPTION:This is American Red Cross Adult and Pediatric First Aid/CPR/AED. This course satisfies OSHA workplace and other regulatory requirements. Your certification is valid for two years. \nThis class is taught by an approved PQAS instructor.\n \nDate: Monday\, Nov. 10\, 2025\nTime: 1p – 4:45p\nLocation: American Executive Centers\n600 West Germantown Pike\, Suite 400\nPlymouth Meeting\, PA 19462\nCost: $100.00 \nThis is a non-refundable\, non-transferable ticket. If you are late\, you will not be permitted to enter and will forfeit your class fees. Please read our cancellation policy here: https://shoensafety.com/cancellation-policy/ \nPurchase a ticket at the bottom of the page to register.
URL:https://shoensafety.com/event/nov-10-plymouth-mtg-cpr-aed-first-aid-classroom-only/
LOCATION:American Executive Centers – Plymouth Meeting\, 600 West Germantown Pike\, Suite 400\, Plymouth Meeting\, PA\, 19462\, United States
CATEGORIES:CPR and First Aid
END:VEVENT
BEGIN:VEVENT
DTSTART;TZID=America/New_York:20251010T090000
DTEND;TZID=America/New_York:20251010T124500
DTSTAMP:20260420T175426
CREATED:20250714T152431Z
LAST-MODIFIED:20250714T152431Z
UID:10001434-1760086800-1760100300@shoensafety.com
SUMMARY:Oct. 10 Plymouth Mtg. CPR/AED/First Aid Classroom Only
DESCRIPTION:This is American Red Cross Adult and Pediatric First Aid/CPR/AED. This course satisfies OSHA workplace and other regulatory requirements. Your certification is valid for two years. \nThis class is taught by an approved PQAS instructor.\n \nDate: Friday\, Oct. 10\, 2025\nTime: 9a – 12:45p\nLocation: American Executive Centers\n600 West Germantown Pike\, Suite 400\nPlymouth Meeting\, PA 19462\nCost: $100.00 \nThis is a non-refundable\, non-transferable ticket. If you are late\, you will not be permitted to enter and will forfeit your class fees. Please read our cancellation policy here: https://shoensafety.com/cancellation-policy/ \nPurchase a ticket at the bottom of the page to register.
URL:https://shoensafety.com/event/oct-10-plymouth-mtg-cpr-aed-first-aid-classroom-only/
LOCATION:American Executive Centers – Plymouth Meeting\, 600 West Germantown Pike\, Suite 400\, Plymouth Meeting\, PA\, 19462\, United States
CATEGORIES:CPR and First Aid
END:VEVENT
BEGIN:VEVENT
DTSTART;TZID=America/New_York:20250904T090000
DTEND;TZID=America/New_York:20250904T124500
DTSTAMP:20260420T175426
CREATED:20250714T152046Z
LAST-MODIFIED:20250714T152046Z
UID:10001433-1756976400-1756989900@shoensafety.com
SUMMARY:Sept. 4 Plymouth Mtg. CPR/AED/First Aid Classroom Only
DESCRIPTION:This is American Red Cross Adult and Pediatric First Aid/CPR/AED. This course satisfies OSHA workplace and other regulatory requirements. Your certification is valid for two years. \nThis class is taught by an approved PQAS instructor.\n \nDate: Thursday\, Sept. 4\, 2025\nTime: 9a – 12:45p\nLocation: American Executive Centers\n600 West Germantown Pike\, Suite 400\nPlymouth Meeting\, PA 19462\nCost: $100.00 \nThis is a non-refundable\, non-transferable ticket. If you are late\, you will not be permitted to enter and will forfeit your class fees. Please read our cancellation policy here: https://shoensafety.com/cancellation-policy/ \nPurchase a ticket at the bottom of the page to register.
URL:https://shoensafety.com/event/sept-4-plymouth-mtg-cpr-aed-first-aid-classroom-only/
LOCATION:American Executive Centers – Plymouth Meeting\, 600 West Germantown Pike\, Suite 400\, Plymouth Meeting\, PA\, 19462\, United States
CATEGORIES:CPR and First Aid
END:VEVENT
BEGIN:VEVENT
DTSTART;TZID=America/New_York:20250811T130000
DTEND;TZID=America/New_York:20250811T164500
DTSTAMP:20260420T175426
CREATED:20250708T162040Z
LAST-MODIFIED:20250708T162040Z
UID:10001427-1754917200-1754930700@shoensafety.com
SUMMARY:Aug. 11 Plymouth Mtg. CPR/AED/First Aid Classroom Only
DESCRIPTION:This is American Red Cross Adult and Pediatric First Aid/CPR/AED. This course satisfies OSHA workplace and other regulatory requirements. Your certification is valid for two years. \nThis class is taught by an approved PQAS instructor.\n \nDate: Monday\, Aug. 11\, 2025\nTime: 1p – 4:45p\nLocation: American Executive Centers\n600 West Germantown Pike\, Suite 400\nPlymouth Meeting\, PA 19462\nCost: $100.00 \nThis is a non-refundable\, non-transferable ticket. If you are late\, you will not be permitted to enter and will forfeit your class fees. Please read our cancellation policy here: https://shoensafety.com/cancellation-policy/ \nPurchase a ticket at the bottom of the page to register.
URL:https://shoensafety.com/event/aug-11-plymouth-mtg-cpr-aed-first-aid-classroom-only/
LOCATION:American Executive Centers – Plymouth Meeting\, 600 West Germantown Pike\, Suite 400\, Plymouth Meeting\, PA\, 19462\, United States
CATEGORIES:CPR and First Aid
END:VEVENT
BEGIN:VEVENT
DTSTART;TZID=America/New_York:20250714T090000
DTEND;TZID=America/New_York:20250714T124500
DTSTAMP:20260420T175426
CREATED:20250213T133011Z
LAST-MODIFIED:20250213T133011Z
UID:10001387-1752483600-1752497100@shoensafety.com
SUMMARY:July 14 Plymouth Mtg. CPR/AED/First Aid Classroom Only
DESCRIPTION:This is American Red Cross Adult and Pediatric First Aid/CPR/AED. This course satisfies OSHA workplace and other regulatory requirements. Your certification is valid for two years. \nThis class is taught by an approved PQAS instructor.\n \nDate: Monday\, July 14\, 2025\nTime: 9a – 12:45p\nLocation: American Executive Centers\n600 West Germantown Pike\, Suite 400\nPlymouth Meeting\, PA 19462\nCost: $100.00 \nThis is a non-refundable\, non-transferable ticket. If you are late\, you will not be permitted to enter and will forfeit your class fees. Please read our cancellation policy here: https://shoensafety.com/cancellation-policy/ \nPurchase a ticket at the bottom of the page to register.
URL:https://shoensafety.com/event/july-14-plymouth-mtg-cpr-aed-first-aid-classroom-only/
LOCATION:American Executive Centers – Plymouth Meeting\, 600 West Germantown Pike\, Suite 400\, Plymouth Meeting\, PA\, 19462\, United States
CATEGORIES:CPR and First Aid
END:VEVENT
BEGIN:VEVENT
DTSTART;TZID=America/New_York:20250613T090000
DTEND;TZID=America/New_York:20250613T124500
DTSTAMP:20260420T175426
CREATED:20250213T132732Z
LAST-MODIFIED:20250213T132732Z
UID:10001386-1749805200-1749818700@shoensafety.com
SUMMARY:June 13 Plymouth Mtg. CPR/AED/First Aid Classroom Only
DESCRIPTION:This is American Red Cross Adult and Pediatric First Aid/CPR/AED. This course satisfies OSHA workplace and other regulatory requirements. Your certification is valid for two years. \nThis class is taught by an approved PQAS instructor.\n \nDate: Friday\, June 13\, 2025\nTime: 9a – 12:45p\nLocation: American Executive Centers\n600 West Germantown Pike\, Suite 400\nPlymouth Meeting\, PA 19462\nCost: $100.00 \nThis is a non-refundable\, non-transferable ticket. If you are late\, you will not be permitted to enter and will forfeit your class fees. Please read our cancellation policy here: https://shoensafety.com/cancellation-policy/ \nPurchase a ticket at the bottom of the page to register.
URL:https://shoensafety.com/event/june-13-plymouth-mtg-cpr-aed-first-aid-classroom-only/
LOCATION:American Executive Centers – Plymouth Meeting\, 600 West Germantown Pike\, Suite 400\, Plymouth Meeting\, PA\, 19462\, United States
CATEGORIES:CPR and First Aid
END:VEVENT
BEGIN:VEVENT
DTSTART;TZID=America/New_York:20250512T090000
DTEND;TZID=America/New_York:20250512T124500
DTSTAMP:20260420T175426
CREATED:20250213T132509Z
LAST-MODIFIED:20250410T190219Z
UID:10001385-1747040400-1747053900@shoensafety.com
SUMMARY:May 12 Plymouth Mtg. CPR/AED/First Aid Classroom Only
DESCRIPTION:This is American Red Cross Adult and Pediatric First Aid/CPR/AED. This course satisfies OSHA workplace and other regulatory requirements. Your certification is valid for two years. \nThis class is taught by an approved PQAS instructor.\n \nDate: Monday\, May. 12\, 2025\nTime: 9a – 12:45p\nLocation: American Executive Centers\n600 West Germantown Pike\, Suite 400\nPlymouth Meeting\, PA 19462\nCost: $100.00 \nThis is a non-refundable\, non-transferable ticket. If you are late\, you will not be permitted to enter and will forfeit your class fees. Please read our cancellation policy here: https://shoensafety.com/cancellation-policy/ \nPurchase a ticket at the bottom of the page to register.
URL:https://shoensafety.com/event/may-12-plymouth-mtg-cpr-aed-first-aid-classroom-only/
LOCATION:American Executive Centers – Plymouth Meeting\, 600 West Germantown Pike\, Suite 400\, Plymouth Meeting\, PA\, 19462\, United States
CATEGORIES:CPR and First Aid
END:VEVENT
BEGIN:VEVENT
DTSTART;TZID=America/New_York:20250417T130000
DTEND;TZID=America/New_York:20250417T164500
DTSTAMP:20260420T175426
CREATED:20250213T131819Z
LAST-MODIFIED:20250213T131819Z
UID:10001384-1744894800-1744908300@shoensafety.com
SUMMARY:April 17 Plymouth Mtg. CPR/AED/First Aid Classroom Only
DESCRIPTION:This is American Red Cross Adult and Pediatric First Aid/CPR/AED. This course satisfies OSHA workplace and other regulatory requirements. Your certification is valid for two years. \nThis class is taught by an approved PQAS instructor.\n \nDate: Thursday\, Apr. 17\, 2025\nTime: 1p – 4:45p\nLocation: American Executive Centers\n600 West Germantown Pike\, Suite 400\nPlymouth Meeting\, PA 19462\nCost: $100.00 \nThis is a non-refundable\, non-transferable ticket. If you are late\, you will not be permitted to enter and will forfeit your class fees. Please read our cancellation policy here: https://shoensafety.com/cancellation-policy/ \nPurchase a ticket at the bottom of the page to register.
URL:https://shoensafety.com/event/april-17-plymouth-mtg-cpr-aed-first-aid-classroom-only/
LOCATION:American Executive Centers – Plymouth Meeting\, 600 West Germantown Pike\, Suite 400\, Plymouth Meeting\, PA\, 19462\, United States
CATEGORIES:CPR and First Aid
END:VEVENT
BEGIN:VEVENT
DTSTART;TZID=America/New_York:20250317T090000
DTEND;TZID=America/New_York:20250317T124500
DTSTAMP:20260420T175426
CREATED:20250205T164100Z
LAST-MODIFIED:20250205T164100Z
UID:10001299-1742202000-1742215500@shoensafety.com
SUMMARY:March 17 Plymouth Mtg. CPR/AED/First Aid Classroom Only
DESCRIPTION:This is American Red Cross Adult and Pediatric First Aid/CPR/AED. This course satisfies OSHA workplace and other regulatory requirements. Your certification is valid for two years. \nThis class is taught by an approved PQAS instructor.\n \nDate: Monday\, Mar. 17\, 2025\nTime: 9a – 12:45p\nLocation: American Executive Centers\n600 West Germantown Pike\, Suite 400\nPlymouth Meeting\, PA 19462\nCost: $100.00 \nThis is a non-refundable\, non-transferable ticket. If you are late\, you will not be permitted to enter and will forfeit your class fees. Please read our cancellation policy here: https://shoensafety.com/cancellation-policy/ \nPurchase a ticket at the bottom of the page to register.
URL:https://shoensafety.com/event/march-17-plymouth-mtg-cpr-aed-first-aid-classroom-only/
LOCATION:American Executive Centers – Plymouth Meeting\, 600 West Germantown Pike\, Suite 400\, Plymouth Meeting\, PA\, 19462\, United States
CATEGORIES:CPR and First Aid
END:VEVENT
BEGIN:VEVENT
DTSTART;TZID=America/New_York:20250220T090000
DTEND;TZID=America/New_York:20250220T124500
DTSTAMP:20260420T175426
CREATED:20250108T155343Z
LAST-MODIFIED:20250108T155343Z
UID:10001255-1740042000-1740055500@shoensafety.com
SUMMARY:Feb. 20 Plymouth Mtg. CPR/AED/First Aid Classroom Only
DESCRIPTION:This is American Red Cross Adult and Pediatric First Aid/CPR/AED. This course satisfies OSHA workplace and other regulatory requirements. Your certification is valid for two years. \nThis class is taught by an approved PQAS instructor.\n \nDate: Thursday\, Feb. 20\, 2025\nTime: 9a – 12:45p\nLocation: American Executive Centers\n600 West Germantown Pike\, Suite 400\nPlymouth Meeting\, PA 19462\nCost: $100.00 \nThis is a non-refundable\, non-transferable ticket. If you are late\, you will not be permitted to enter and will forfeit your class fees. Please read our cancellation policy here: https://shoensafety.com/cancellation-policy/ \nPurchase a ticket at the bottom of the page to register.
URL:https://shoensafety.com/event/feb-20-plymouth-mtg-cpr-aed-first-aid-classroom-only/
LOCATION:American Executive Centers – Plymouth Meeting\, 600 West Germantown Pike\, Suite 400\, Plymouth Meeting\, PA\, 19462\, United States
CATEGORIES:CPR and First Aid
END:VEVENT
END:VCALENDAR