BEGIN:VCALENDAR
VERSION:2.0
PRODID:-//ShoenSafety LLC - ECPv6.15.20//NONSGML v1.0//EN
CALSCALE:GREGORIAN
METHOD:PUBLISH
X-ORIGINAL-URL:https://shoensafety.com
X-WR-CALDESC:Events for ShoenSafety LLC
REFRESH-INTERVAL;VALUE=DURATION:PT1H
X-Robots-Tag:noindex
X-PUBLISHED-TTL:PT1H
BEGIN:VTIMEZONE
TZID:America/New_York
BEGIN:DAYLIGHT
TZOFFSETFROM:-0500
TZOFFSETTO:-0400
TZNAME:EDT
DTSTART:20250309T070000
END:DAYLIGHT
BEGIN:STANDARD
TZOFFSETFROM:-0400
TZOFFSETTO:-0500
TZNAME:EST
DTSTART:20251102T060000
END:STANDARD
BEGIN:DAYLIGHT
TZOFFSETFROM:-0500
TZOFFSETTO:-0400
TZNAME:EDT
DTSTART:20260308T070000
END:DAYLIGHT
BEGIN:STANDARD
TZOFFSETFROM:-0400
TZOFFSETTO:-0500
TZNAME:EST
DTSTART:20261101T060000
END:STANDARD
BEGIN:DAYLIGHT
TZOFFSETFROM:-0500
TZOFFSETTO:-0400
TZNAME:EDT
DTSTART:20270314T070000
END:DAYLIGHT
BEGIN:STANDARD
TZOFFSETFROM:-0400
TZOFFSETTO:-0500
TZNAME:EST
DTSTART:20271107T060000
END:STANDARD
END:VTIMEZONE
BEGIN:VEVENT
DTSTART;TZID=America/New_York:20260425T080000
DTEND;TZID=America/New_York:20260426T184500
DTSTAMP:20260421T063743
CREATED:20260306T171818Z
LAST-MODIFIED:20260306T171818Z
UID:10001624-1777104000-1777229100@shoensafety.com
SUMMARY:April 25-26 Lifeguard Certification at Souderton High School
DESCRIPTION:This is an American Red Cross Lifeguarding certification class. If you pass\, you’ll receive your Lifeguarding Certification\, which is valid for 2 years. \nPrior to class\, you must complete the online portion and bring proof of completion to class (instructions below). \nPlease bring a bathing suit\, change of clothes\, towel\, pen\, and a packed lunch. Prior to class\, you must complete the online portion and bring proof of completion to class (instructions below). \nDate: Saturday\, April 25 & Sunday\, April 26\, 2026\nTime: 8a – 6:45p\nLocation: Souderton High School\n625 Lower Rd.\nSouderton\, PA 18964\n*Enter through the Main Entrance in the back of the parking lot. The pool will be the first door on the right.\nCost: $400\nAge: Minimum 15\nOnline Course Link: Please go here to access the online portion prior to class: https://www.redcrosslearningcenter.org/s/online-class-registration?Id=a653o00000394qFAAQ\n-Click link\n-Create account and click “Register.”\n-Go to the email you provided and sign in with the user name that was emailed.\n-Click “forgot password.”\n-Go to your email and reset your password and sign in with your newly created password.\n-Take the course.\nWhat to bring: Bathing suit\, change of clothes\, towel\, pen\, a packed lunch/food\, proof of online completion. \n  \nThis is a non-refundable\, non-transferable ticket.\nIf you are late\, you will not be permitted to enter and will forfeit your class fees.\nIf you do not pass any portion of the class\, including the pretest\, you will not receive a refund or reschedule.\nBy purchasing a ticket\, you agree to our cancellation policy found here: https://shoensafety.com/cancellation-policy/ \nPurchase a ticket at the bottom of the page to register.
URL:https://shoensafety.com/event/april-25-26-lifeguard-certification-at-souderton-high-school/
LOCATION:Souderton High School\, 625 Lower Rd\, Souderton\, PA\, 18964\, United States
CATEGORIES:Lifeguard Certification Class
END:VEVENT
BEGIN:VEVENT
DTSTART;TZID=America/New_York:20260425T090000
DTEND;TZID=America/New_York:20260425T181500
DTSTAMP:20260421T063743
CREATED:20260306T171450Z
LAST-MODIFIED:20260406T191436Z
UID:10001623-1777107600-1777140900@shoensafety.com
SUMMARY:April 25 Lifeguard Recertification at Souderton
DESCRIPTION:This is an American Red Cross Lifeguarding Recertification course. It is only for lifeguards who are presently certified as a lifeguard and need to renew. \nPrior to class\, you must complete the online portion and bring proof of completion to class. \nDate: Saturday\, April 25\, 2026\nTime: 9:00a – 6:15p\nLocation: Souderton High School\n625 Lower Rd.\nSouderton\, PA 18964\nCost: $225\nOnline Course Link: https://www.redcrosslearningcenter.org/s/online-class-registration?Id=a653o00000394qUAAQ\n-Click link\n-Create account and click “Register.”\n-Go to the email you provided and sign in with the user name that was emailed.\n-Click “forgot password.”\n-Go to your email and reset your password and sign in with your newly created password.\n-Take the course.\nWhat to bring: Bathing suit\, change of clothes\, towel\, pen\, a packed lunch/food\, proof of online completion. \nThis is a non-refundable\, non-transferable ticket.\nIf you are late\, you will not be permitted to enter and will forfeit your class fees.\nIf you do not pass any portion of the class\, including the pretest\, you will not receive a refund or reschedule.\nBy purchasing a ticket\, you agree to our cancellation policy found here: https://shoensafety.com/cancellation-policy/\nPurchase a ticket at the bottom of the page to register. \n 
URL:https://shoensafety.com/event/april-25-lifeguard-recertification-at-souderton/
LOCATION:Souderton High School\, 625 Lower Rd\, Souderton\, PA\, 18964\, United States
CATEGORIES:Lifeguard Certification Class
END:VEVENT
BEGIN:VEVENT
DTSTART;TZID=America/New_York:20260425T090000
DTEND;TZID=America/New_York:20260426T170000
DTSTAMP:20260421T063743
CREATED:20260212T193819Z
LAST-MODIFIED:20260304T140543Z
UID:10001592-1777107600-1777222800@shoensafety.com
SUMMARY:April 25-26 Lifeguard Instructor Certification at Souderton Blended Learning
DESCRIPTION:This is an American Red Cross Lifeguarding Instructor Certification class. If you pass\, you’ll receive your Lifeguarding Certification\, which is valid for 2 years. You must currently hold a valid lifeguard certification to attend the class. \nPrior to class\, you must complete the online portion and bring proof of completion to class (instructions below). \nPlease bring your current lifeguarding certification\, a bathing suit\, change of clothes\, towel\, pen\, and a packed lunch. Prior to class\, you must complete the online portion and bring proof of completion to class (instructions below). \nDate: Saturday\, Apr. 25 & Sunday\, Apr. 26\, 2026\nTime: 9a – 5p\nLocation: Souderton High School\n625 Lower Rd.\nSouderton\, PA 18964\nCost: $400\nAge: Minimum 17\nOnline Course Link: Once you register\, you will receive an email with the course link.\n-Click link\n-Create account and click “Register.”\n-Go to the email you provided and sign in with the user name that was emailed.\n-Click “forgot password.”\n-Go to your email and reset your password and sign in with your newly created password.\n-Take the course.\nWhat to bring: Valid LGT cert\, bathing suit\, change of clothes\, towel\, pen\, a packed lunch/food\, proof of online completion. \n  \nThis is a non-refundable\, non-transferable ticket.\nIf you are late\, you will not be permitted to enter and will forfeit your class fees.\nIf you do not pass any portion of the class\, including the pretest\, you will not receive a refund or reschedule.\nBy purchasing a ticket\, you agree to our cancellation policy found here: https://shoensafety.com/cancellation-policy/ \nPurchase a ticket at the bottom of the page to register.
URL:https://shoensafety.com/event/march-28-29-lifeguard-instructor-certification-at-souderton-blended-learning/
LOCATION:Souderton High School\, 625 Lower Rd\, Souderton\, PA\, 18964\, United States
CATEGORIES:Lifeguard Certification Class
END:VEVENT
BEGIN:VEVENT
DTSTART;TZID=America/New_York:20260516T080000
DTEND;TZID=America/New_York:20260517T184500
DTSTAMP:20260421T063743
CREATED:20260413T143642Z
LAST-MODIFIED:20260413T143642Z
UID:10001657-1778918400-1779043500@shoensafety.com
SUMMARY:May 16-17 Lifeguard Certification at Souderton High School
DESCRIPTION:This is an American Red Cross Lifeguarding certification class. If you pass\, you’ll receive your Lifeguarding Certification\, which is valid for 2 years. \nPrior to class\, you must complete the online portion and bring proof of completion to class (instructions below). \nPlease bring a bathing suit\, change of clothes\, towel\, pen\, and a packed lunch. Prior to class\, you must complete the online portion and bring proof of completion to class (instructions below). \nDate: Saturday\, May 16 & Sunday\, May 17\, 2026\nTime: 8a – 6:45p\nLocation: Souderton High School\n625 Lower Rd.\nSouderton\, PA 18964\n*Enter through the Main Entrance in the back of the parking lot. The pool will be the first door on the right.\nCost: $400\nAge: Minimum 15\nOnline Course Link: Please go here to access the online portion prior to class: https://www.redcrosslearningcenter.org/s/online-class-registration?Id=a653o00000394qFAAQ\n-Click link\n-Create account and click “Register.”\n-Go to the email you provided and sign in with the user name that was emailed.\n-Click “forgot password.”\n-Go to your email and reset your password and sign in with your newly created password.\n-Take the course.\nWhat to bring: Bathing suit\, change of clothes\, towel\, pen\, a packed lunch/food\, proof of online completion. \n  \nThis is a non-refundable\, non-transferable ticket.\nIf you are late\, you will not be permitted to enter and will forfeit your class fees.\nIf you do not pass any portion of the class\, including the pretest\, you will not receive a refund or reschedule.\nBy purchasing a ticket\, you agree to our cancellation policy found here: https://shoensafety.com/cancellation-policy/ \nPurchase a ticket at the bottom of the page to register.
URL:https://shoensafety.com/event/may-16-17-lifeguard-certification-at-souderton-high-school/
LOCATION:Souderton High School\, 625 Lower Rd\, Souderton\, PA\, 18964\, United States
CATEGORIES:Lifeguard Certification Class
END:VEVENT
BEGIN:VEVENT
DTSTART;TZID=America/New_York:20260516T090000
DTEND;TZID=America/New_York:20260516T181500
DTSTAMP:20260421T063743
CREATED:20260413T150940Z
LAST-MODIFIED:20260413T150940Z
UID:10001659-1778922000-1778955300@shoensafety.com
SUMMARY:May 16 Lifeguard Recertification at Souderton
DESCRIPTION:This is an American Red Cross Lifeguarding Recertification course. It is only for lifeguards who are presently certified as a lifeguard and need to renew. \nPrior to class\, you must complete the online portion and bring proof of completion to class. \nDate: Saturday\, May 16\, 2026\nTime: 9:00a – 6:15p\nLocation: Souderton High School\n625 Lower Rd.\nSouderton\, PA 18964\nCost: $225\nOnline Course Link: https://www.redcrosslearningcenter.org/s/online-class-registration?Id=a653o00000394qUAAQ\n-Click link\n-Create account and click “Register.”\n-Go to the email you provided and sign in with the user name that was emailed.\n-Click “forgot password.”\n-Go to your email and reset your password and sign in with your newly created password.\n-Take the course.\nWhat to bring: Bathing suit\, change of clothes\, towel\, pen\, a packed lunch/food\, proof of online completion. \nThis is a non-refundable\, non-transferable ticket.\nIf you are late\, you will not be permitted to enter and will forfeit your class fees.\nIf you do not pass any portion of the class\, including the pretest\, you will not receive a refund or reschedule.\nBy purchasing a ticket\, you agree to our cancellation policy found here: https://shoensafety.com/cancellation-policy/\nPurchase a ticket at the bottom of the page to register. \n 
URL:https://shoensafety.com/event/may-16-lifeguard-recertification-at-souderton/
LOCATION:Souderton High School\, 625 Lower Rd\, Souderton\, PA\, 18964\, United States
CATEGORIES:Lifeguard Certification Class
END:VEVENT
BEGIN:VEVENT
DTSTART;TZID=America/New_York:20260530T080000
DTEND;TZID=America/New_York:20260531T184500
DTSTAMP:20260421T063743
CREATED:20260413T161835Z
LAST-MODIFIED:20260413T161835Z
UID:10001663-1780128000-1780253100@shoensafety.com
SUMMARY:May 30-31 Lifeguard Certification at Souderton High School
DESCRIPTION:This is an American Red Cross Lifeguarding certification class. If you pass\, you’ll receive your Lifeguarding Certification\, which is valid for 2 years. \nPrior to class\, you must complete the online portion and bring proof of completion to class (instructions below). \nPlease bring a bathing suit\, change of clothes\, towel\, pen\, and a packed lunch. Prior to class\, you must complete the online portion and bring proof of completion to class (instructions below). \nDate: Saturday\, May 30 & Sunday\, May 31\, 2026\nTime: 8a – 6:45p\nLocation: Souderton High School\n625 Lower Rd.\nSouderton\, PA 18964\n*Enter through the Main Entrance in the back of the parking lot. The pool will be the first door on the right.\nCost: $400\nAge: Minimum 15\nOnline Course Link: Please go here to access the online portion prior to class: https://www.redcrosslearningcenter.org/s/online-class-registration?Id=a653o00000394qFAAQ\n-Click link\n-Create account and click “Register.”\n-Go to the email you provided and sign in with the user name that was emailed.\n-Click “forgot password.”\n-Go to your email and reset your password and sign in with your newly created password.\n-Take the course.\nWhat to bring: Bathing suit\, change of clothes\, towel\, pen\, a packed lunch/food\, proof of online completion. \n  \nThis is a non-refundable\, non-transferable ticket.\nIf you are late\, you will not be permitted to enter and will forfeit your class fees.\nIf you do not pass any portion of the class\, including the pretest\, you will not receive a refund or reschedule.\nBy purchasing a ticket\, you agree to our cancellation policy found here: https://shoensafety.com/cancellation-policy/ \nPurchase a ticket at the bottom of the page to register.
URL:https://shoensafety.com/event/may-30-31-lifeguard-certification-at-souderton-high-school/
LOCATION:Souderton High School\, 625 Lower Rd\, Souderton\, PA\, 18964\, United States
CATEGORIES:Lifeguard Certification Class
END:VEVENT
BEGIN:VEVENT
DTSTART;TZID=America/New_York:20260530T090000
DTEND;TZID=America/New_York:20260530T181500
DTSTAMP:20260421T063743
CREATED:20260413T151706Z
LAST-MODIFIED:20260413T151706Z
UID:10001660-1780131600-1780164900@shoensafety.com
SUMMARY:May 30 Lifeguard Recertification at Souderton
DESCRIPTION:This is an American Red Cross Lifeguarding Recertification course. It is only for lifeguards who are presently certified as a lifeguard and need to renew. \nPrior to class\, you must complete the online portion and bring proof of completion to class. \nDate: Saturday\, May 30\, 2026\nTime: 9:00a – 6:15p\nLocation: Souderton High School\n625 Lower Rd.\nSouderton\, PA 18964\nCost: $225\nOnline Course Link: https://www.redcrosslearningcenter.org/s/online-class-registration?Id=a653o00000394qUAAQ\n-Click link\n-Create account and click “Register.”\n-Go to the email you provided and sign in with the user name that was emailed.\n-Click “forgot password.”\n-Go to your email and reset your password and sign in with your newly created password.\n-Take the course.\nWhat to bring: Bathing suit\, change of clothes\, towel\, pen\, a packed lunch/food\, proof of online completion. \nThis is a non-refundable\, non-transferable ticket.\nIf you are late\, you will not be permitted to enter and will forfeit your class fees.\nIf you do not pass any portion of the class\, including the pretest\, you will not receive a refund or reschedule.\nBy purchasing a ticket\, you agree to our cancellation policy found here: https://shoensafety.com/cancellation-policy/\nPurchase a ticket at the bottom of the page to register. \n 
URL:https://shoensafety.com/event/may-30-lifeguard-recertification-at-souderton/
LOCATION:Souderton High School\, 625 Lower Rd\, Souderton\, PA\, 18964\, United States
CATEGORIES:Lifeguard Certification Class
END:VEVENT
END:VCALENDAR